BEGIN:VCALENDAR
VERSION:2.0
PRODID:-// - ECPv6.15.16//NONSGML v1.0//EN
CALSCALE:GREGORIAN
METHOD:PUBLISH
X-ORIGINAL-URL:https://timingzone.com
X-WR-CALDESC:Évènements pour 
REFRESH-INTERVAL;VALUE=DURATION:PT1H
X-Robots-Tag:noindex
X-PUBLISHED-TTL:PT1H
BEGIN:VTIMEZONE
TZID:UTC
BEGIN:STANDARD
TZOFFSETFROM:+0000
TZOFFSETTO:+0000
TZNAME:UTC
DTSTART:20190101T000000
END:STANDARD
END:VTIMEZONE
BEGIN:VEVENT
DTSTART;VALUE=DATE:20201004
DTEND;VALUE=DATE:20201005
DTSTAMP:20260423T135637
CREATED:20230827T143919Z
LAST-MODIFIED:20230827T143919Z
UID:9369-1601769600-1601855999@timingzone.com
SUMMARY:TRANS WEST 2020
DESCRIPTION:
URL:https://timingzone.com/evenement/trans-west-2020/
LOCATION:THEOULE SUR MER\, THEOULE SUR MER\, 06590\, France
CATEGORIES:CYCLISME / VTT / GRAVEL,UCC SPORT EVENT
ATTACH;FMTTYPE=image/jpeg:https://timingzone.com/wp-content/uploads/2023/08/transv-west-2020-affiche.jpg
END:VEVENT
BEGIN:VEVENT
DTSTART;VALUE=DATE:20201018
DTEND;VALUE=DATE:20201019
DTSTAMP:20260423T135637
CREATED:20230828T075750Z
LAST-MODIFIED:20230828T080320Z
UID:9416-1602979200-1603065599@timingzone.com
SUMMARY:TRIGAMES MANDELIEU 2020
DESCRIPTION:
URL:https://timingzone.com/evenement/trigames-mandelieu-2020/
LOCATION:MANDELIEU\, la siagne\, Mandelieu la Napoule\, 06210\, France
CATEGORIES:TRIATHLON / DUATHLON / AQUATHLON
ATTACH;FMTTYPE=image/jpeg:https://timingzone.com/wp-content/uploads/2023/08/AFFICHE.jpg
END:VEVENT
END:VCALENDAR