BEGIN:VCALENDAR
VERSION:2.0
PRODID:-// - ECPv6.15.16//NONSGML v1.0//EN
CALSCALE:GREGORIAN
METHOD:PUBLISH
X-ORIGINAL-URL:https://timingzone.com
X-WR-CALDESC:Évènements pour 
REFRESH-INTERVAL;VALUE=DURATION:PT1H
X-Robots-Tag:noindex
X-PUBLISHED-TTL:PT1H
BEGIN:VTIMEZONE
TZID:UTC
BEGIN:STANDARD
TZOFFSETFROM:+0000
TZOFFSETTO:+0000
TZNAME:UTC
DTSTART:20240101T000000
END:STANDARD
END:VTIMEZONE
BEGIN:VEVENT
DTSTART;TZID=UTC:20251109T080000
DTEND;TZID=UTC:20251109T140000
DTSTAMP:20260420T144655
CREATED:20251108T173844Z
LAST-MODIFIED:20251108T175048Z
UID:14346-1762675200-1762696800@timingzone.com
SUMMARY:10 KM ET SEMIN DE LA DURANCE 2025
DESCRIPTION:
URL:https://timingzone.com/evenement/10-km-et-semin-de-la-durance-2025/
LOCATION:CHARLEVAL\, CHARLEVAL\, 13350\, France
CATEGORIES:COURSE A PIEDS / TRAIL
ATTACH;FMTTYPE=image/jpeg:https://timingzone.com/wp-content/uploads/2025/11/affiche-semi-durance-finisher.jpg
END:VEVENT
BEGIN:VEVENT
DTSTART;TZID=UTC:20251123T170000
DTEND;TZID=UTC:20251123T200000
DTSTAMP:20260420T144655
CREATED:20250604T133444Z
LAST-MODIFIED:20251123T124749Z
UID:13895-1763917200-1763928000@timingzone.com
SUMMARY:URBAN TRAIL ANTIBES 2025
DESCRIPTION:
URL:https://timingzone.com/evenement/urban-trail-antibes-2025/
LOCATION:Stade du Fort Carré à Antibes\, Stade Fort carré\, 60 Av. du 11 Novembre\, ANTIBES\, paca\, 06600\, France
CATEGORIES:COURSE A PIEDS / TRAIL
ATTACH;FMTTYPE=image/jpeg:https://timingzone.com/wp-content/uploads/2025/06/UTA-2025-Affiche-WEB-Portrait-Mail-Facebook-LinkedIn-HD-copie-scaled.jpg
END:VEVENT
BEGIN:VEVENT
DTSTART;TZID=UTC:20251130T080000
DTEND;TZID=UTC:20251130T120000
DTSTAMP:20260420T144655
CREATED:20251009T142329Z
LAST-MODIFIED:20251130T160919Z
UID:14300-1764489600-1764504000@timingzone.com
SUMMARY:LE RELAIS DES MOUSTACHUS 2025
DESCRIPTION:
URL:https://timingzone.com/evenement/le-relais-des-moustachus-2025/
LOCATION:STADE PERDIGON\, STADE PERDIGON\, GRASSE\, 06130\, France
CATEGORIES:COURSE A PIEDS / TRAIL
ATTACH;FMTTYPE=image/jpeg:https://timingzone.com/wp-content/uploads/2025/10/AFFICHE-RELAIS-MOUSTACHUS-2025.jpg
END:VEVENT
BEGIN:VEVENT
DTSTART;TZID=UTC:20251130T080000
DTEND;TZID=UTC:20251130T170000
DTSTAMP:20260420T144655
CREATED:20251129T180232Z
LAST-MODIFIED:20251130T145119Z
UID:14393-1764489600-1764522000@timingzone.com
SUMMARY:LA BOUCLE BERLUGANE 2025
DESCRIPTION:
URL:https://timingzone.com/evenement/la-boucle-berlugane-2025/
LOCATION:PARKING DE LA BATTERIE\, PARKING DE LA BATTERIE\, BEAULIEU SUR MER\, 06310\, France
CATEGORIES:COURSE A PIEDS / TRAIL
ATTACH;FMTTYPE=image/jpeg:https://timingzone.com/wp-content/uploads/2025/11/AFFICHE-BOUCLE-BERLUGANE-2025.jpg
END:VEVENT
END:VCALENDAR