BEGIN:VCALENDAR
VERSION:2.0
PRODID:-// - ECPv6.15.16//NONSGML v1.0//EN
CALSCALE:GREGORIAN
METHOD:PUBLISH
X-ORIGINAL-URL:https://timingzone.com
X-WR-CALDESC:Évènements pour 
REFRESH-INTERVAL;VALUE=DURATION:PT1H
X-Robots-Tag:noindex
X-PUBLISHED-TTL:PT1H
BEGIN:VTIMEZONE
TZID:UTC
BEGIN:STANDARD
TZOFFSETFROM:+0000
TZOFFSETTO:+0000
TZNAME:UTC
DTSTART:20240101T000000
END:STANDARD
END:VTIMEZONE
BEGIN:VEVENT
DTSTART;TZID=UTC:20251004T080000
DTEND;TZID=UTC:20251004T170000
DTSTAMP:20260420T160843
CREATED:20251004T114420Z
LAST-MODIFIED:20251004T114916Z
UID:14283-1759564800-1759597200@timingzone.com
SUMMARY:TRAIL DE PORQUEROLLES 2025
DESCRIPTION:
URL:https://timingzone.com/evenement/trail-de-porquerolles-2025/
LOCATION:PORQUEROLLES\, Ile de Porquerolles\, HYERES\, 83400
CATEGORIES:COURSE A PIEDS / TRAIL
ATTACH;FMTTYPE=image/jpeg:https://timingzone.com/wp-content/uploads/2025/10/TOP_Poster_241120_Trail_DINA3_final-1086x1536-1.jpg
END:VEVENT
BEGIN:VEVENT
DTSTART;VALUE=DATE:20251005
DTEND;VALUE=DATE:20251006
DTSTAMP:20260420T160843
CREATED:20250728T140910Z
LAST-MODIFIED:20251006T120228Z
UID:14111-1759622400-1759708799@timingzone.com
SUMMARY:COURIR EN ROSE
DESCRIPTION:
URL:https://timingzone.com/evenement/courir-en-rose/
LOCATION:MEDIATHEQUE CHARLES NEGRE\, PLACE DU CAPORAL JEAN VERCUEIL\, GRASSE\, PACA\, 06130\, France
CATEGORIES:COURSE A PIEDS / TRAIL
ATTACH;FMTTYPE=image/jpeg:https://timingzone.com/wp-content/uploads/2025/07/affiche-octobre-rose-2025.jpg
END:VEVENT
BEGIN:VEVENT
DTSTART;TZID=UTC:20251011T180000
DTEND;TZID=UTC:20251012T140000
DTSTAMP:20260420T160843
CREATED:20251008T065631Z
LAST-MODIFIED:20251008T071145Z
UID:14290-1760205600-1760277600@timingzone.com
SUMMARY:TRAIL DE TOURRETTES SUR LOUP 2025
DESCRIPTION:
URL:https://timingzone.com/evenement/trail-de-tourrettes-sur-loup-2025/
LOCATION:TOURRETTES SUR LOUP\, TOURRETTES SUR LOUP\, paca\, 06140\, France
CATEGORIES:COURSE A PIEDS / TRAIL
ATTACH;FMTTYPE=image/jpeg:https://timingzone.com/wp-content/uploads/2025/10/affiche-trail-tourrettes-2025.jpg
END:VEVENT
END:VCALENDAR