BEGIN:VCALENDAR
VERSION:2.0
PRODID:-// - ECPv6.15.16//NONSGML v1.0//EN
CALSCALE:GREGORIAN
METHOD:PUBLISH
X-ORIGINAL-URL:https://timingzone.com
X-WR-CALDESC:Évènements pour 
REFRESH-INTERVAL;VALUE=DURATION:PT1H
X-Robots-Tag:noindex
X-PUBLISHED-TTL:PT1H
BEGIN:VTIMEZONE
TZID:Europe/Paris
BEGIN:DAYLIGHT
TZOFFSETFROM:+0100
TZOFFSETTO:+0200
TZNAME:CEST
DTSTART:20250330T010000
END:DAYLIGHT
BEGIN:STANDARD
TZOFFSETFROM:+0200
TZOFFSETTO:+0100
TZNAME:CET
DTSTART:20251026T010000
END:STANDARD
BEGIN:DAYLIGHT
TZOFFSETFROM:+0100
TZOFFSETTO:+0200
TZNAME:CEST
DTSTART:20260329T010000
END:DAYLIGHT
BEGIN:STANDARD
TZOFFSETFROM:+0200
TZOFFSETTO:+0100
TZNAME:CET
DTSTART:20261025T010000
END:STANDARD
BEGIN:DAYLIGHT
TZOFFSETFROM:+0100
TZOFFSETTO:+0200
TZNAME:CEST
DTSTART:20270328T010000
END:DAYLIGHT
BEGIN:STANDARD
TZOFFSETFROM:+0200
TZOFFSETTO:+0100
TZNAME:CET
DTSTART:20271031T010000
END:STANDARD
END:VTIMEZONE
BEGIN:VEVENT
DTSTART;TZID=Europe/Paris:20260614T080000
DTEND;TZID=Europe/Paris:20260614T170000
DTSTAMP:20260423T135825
CREATED:20260422T143313Z
LAST-MODIFIED:20260422T143758Z
UID:14654-1781424000-1781456400@timingzone.com
SUMMARY:LA GAMBADE DE LA FORET 2026
DESCRIPTION:
URL:https://timingzone.com/evenement/la-gambade-de-la-foret-2026/
LOCATION:Plan Sarrain\, Chem. du Plan Sarrain\, MOUANS SARTOUX\, paca\, 06370\, France
CATEGORIES:COURSE A PIEDS / TRAIL
ATTACH;FMTTYPE=image/png:https://timingzone.com/wp-content/uploads/2026/04/affiche-module-gambade-scaled.png
END:VEVENT
END:VCALENDAR