BEGIN:VCALENDAR
VERSION:2.0
PRODID:-// - ECPv6.15.16//NONSGML v1.0//EN
CALSCALE:GREGORIAN
METHOD:PUBLISH
X-ORIGINAL-URL:https://timingzone.com
X-WR-CALDESC:Évènements pour 
REFRESH-INTERVAL;VALUE=DURATION:PT1H
X-Robots-Tag:noindex
X-PUBLISHED-TTL:PT1H
BEGIN:VTIMEZONE
TZID:UTC
BEGIN:STANDARD
TZOFFSETFROM:+0000
TZOFFSETTO:+0000
TZNAME:UTC
DTSTART:20240101T000000
END:STANDARD
END:VTIMEZONE
BEGIN:VEVENT
DTSTART;TZID=UTC:20251130T080000
DTEND;TZID=UTC:20251130T170000
DTSTAMP:20260420T114222
CREATED:20251129T180232Z
LAST-MODIFIED:20251130T145119Z
UID:14393-1764489600-1764522000@timingzone.com
SUMMARY:LA BOUCLE BERLUGANE 2025
DESCRIPTION:
URL:https://timingzone.com/evenement/la-boucle-berlugane-2025/
LOCATION:PARKING DE LA BATTERIE\, PARKING DE LA BATTERIE\, BEAULIEU SUR MER\, 06310\, France
CATEGORIES:COURSE A PIEDS / TRAIL
ATTACH;FMTTYPE=image/jpeg:https://timingzone.com/wp-content/uploads/2025/11/AFFICHE-BOUCLE-BERLUGANE-2025.jpg
END:VEVENT
END:VCALENDAR