BEGIN:VCALENDAR
VERSION:2.0
PRODID:-// - ECPv6.15.16//NONSGML v1.0//EN
CALSCALE:GREGORIAN
METHOD:PUBLISH
X-ORIGINAL-URL:https://timingzone.com
X-WR-CALDESC:Évènements pour 
REFRESH-INTERVAL;VALUE=DURATION:PT1H
X-Robots-Tag:noindex
X-PUBLISHED-TTL:PT1H
BEGIN:VTIMEZONE
TZID:UTC
BEGIN:STANDARD
TZOFFSETFROM:+0000
TZOFFSETTO:+0000
TZNAME:UTC
DTSTART:20240101T000000
END:STANDARD
END:VTIMEZONE
BEGIN:VEVENT
DTSTART;VALUE=DATE:20251005
DTEND;VALUE=DATE:20251006
DTSTAMP:20260425T223854
CREATED:20250728T140910Z
LAST-MODIFIED:20251006T120228Z
UID:14111-1759622400-1759708799@timingzone.com
SUMMARY:COURIR EN ROSE
DESCRIPTION:
URL:https://timingzone.com/evenement/courir-en-rose/
LOCATION:MEDIATHEQUE CHARLES NEGRE\, PLACE DU CAPORAL JEAN VERCUEIL\, GRASSE\, PACA\, 06130\, France
CATEGORIES:COURSE A PIEDS / TRAIL
ATTACH;FMTTYPE=image/jpeg:https://timingzone.com/wp-content/uploads/2025/07/affiche-octobre-rose-2025.jpg
END:VEVENT
END:VCALENDAR