BEGIN:VCALENDAR
VERSION:2.0
PRODID:-// - ECPv6.15.16//NONSGML v1.0//EN
CALSCALE:GREGORIAN
METHOD:PUBLISH
X-ORIGINAL-URL:https://timingzone.com
X-WR-CALDESC:Évènements pour 
REFRESH-INTERVAL;VALUE=DURATION:PT1H
X-Robots-Tag:noindex
X-PUBLISHED-TTL:PT1H
BEGIN:VTIMEZONE
TZID:UTC
BEGIN:STANDARD
TZOFFSETFROM:+0000
TZOFFSETTO:+0000
TZNAME:UTC
DTSTART:20220101T000000
END:STANDARD
END:VTIMEZONE
BEGIN:VEVENT
DTSTART;VALUE=DATE:20230422
DTEND;VALUE=DATE:20230424
DTSTAMP:20260425T183327
CREATED:20221223T175042Z
LAST-MODIFIED:20230422T182112Z
UID:7430-1682121600-1682294399@timingzone.com
SUMMARY:CANNES INTERNATIONAL TRIATHLON
DESCRIPTION:
URL:https://timingzone.com/evenement/cannes-internationnal-triathlon/
LOCATION:CANNES\, SQUARE VERDUN\, CANNES\, 06400\, France
CATEGORIES:TRIATHLON / DUATHLON / AQUATHLON
ATTACH;FMTTYPE=image/jpeg:https://timingzone.com/wp-content/uploads/2022/12/IMAGE-2-1.jpg
END:VEVENT
END:VCALENDAR